BEGIN:VCALENDAR
VERSION:2.0
PRODID:spatie/icalendar-generator
DESCRIPTION:Events from Colegio Lourdes
X-WR-CALDESC:Events from Colegio Lourdes
REFRESH-INTERVAL;VALUE=DURATION:PT1440M
X-PUBLISHED-TTL:PT1440M
BEGIN:VTIMEZONE
TZID:Etc/GMT+0
BEGIN:STANDARD
DTSTART:20211031T141500Z
TZOFFSETFROM:+0000
TZOFFSETTO:+0000
END:STANDARD
END:VTIMEZONE
BEGIN:VTIMEZONE
TZID:UTC
BEGIN:STANDARD
DTSTART:20250729T003625Z
TZOFFSETFROM:+0000
TZOFFSETTO:+0000
END:STANDARD
END:VTIMEZONE
BEGIN:VEVENT
UID:48-40
DTSTAMP:20260425T003625Z
SUMMARY:Inglés Básico.
LOCATION:
ORGANIZER;CN=Colegio:MAILTO:atruas@hotmail.com
DTSTART;TZID=Etc/GMT+0:20220728T141500
DTEND;TZID=Etc/GMT+0:20220728T151500
X-ALT-DESC;FMTTYPE=TEXT/HTML:
CATEGORIES:1º 1  Apoyos,  1º 2  Apoyo
URL;VALUE=URI:https://colegiomalvin.uy/mc-events/ingles-basico/?mc_id=48
END:VEVENT
END:VCALENDAR