BEGIN:VCALENDAR
VERSION:2.0
PRODID:spatie/icalendar-generator
DESCRIPTION:Events from Colegio Lourdes
X-WR-CALDESC:Events from Colegio Lourdes
REFRESH-INTERVAL;VALUE=DURATION:PT1440M
X-PUBLISHED-TTL:PT1440M
BEGIN:VTIMEZONE
TZID:Etc/GMT+0
BEGIN:STANDARD
DTSTART:20211024T160000Z
TZOFFSETFROM:+0000
TZOFFSETTO:+0000
END:STANDARD
END:VTIMEZONE
BEGIN:VTIMEZONE
TZID:UTC
BEGIN:STANDARD
DTSTART:20250729T004048Z
TZOFFSETFROM:+0000
TZOFFSETTO:+0000
END:STANDARD
END:VTIMEZONE
BEGIN:VEVENT
UID:42-34
DTSTAMP:20260425T004048Z
SUMMARY:Inglés Avanzado.
LOCATION:
ORGANIZER;CN=Colegio:MAILTO:atruas@hotmail.com
DTSTART;TZID=Etc/GMT+0:20220721T160000
DTEND;TZID=Etc/GMT+0:20220721T170000
X-ALT-DESC;FMTTYPE=TEXT/HTML:
CATEGORIES:1º 1  Apoyos,  1º 2  Apoyo
URL;VALUE=URI:https://colegiomalvin.uy/mc-events/ingles-avanzado/?mc_id=42
END:VEVENT
END:VCALENDAR