BEGIN:VCALENDAR
VERSION:2.0
PRODID:spatie/icalendar-generator
DESCRIPTION:Events from Colegio Lourdes
X-WR-CALDESC:Events from Colegio Lourdes
REFRESH-INTERVAL;VALUE=DURATION:PT1440M
X-PUBLISHED-TTL:PT1440M
BEGIN:VTIMEZONE
TZID:Etc/GMT+0
BEGIN:STANDARD
DTSTART:20211204T133500Z
TZOFFSETFROM:+0000
TZOFFSETTO:+0000
END:STANDARD
END:VTIMEZONE
BEGIN:VTIMEZONE
TZID:UTC
BEGIN:STANDARD
DTSTART:20250728T212607Z
TZOFFSETFROM:+0000
TZOFFSETTO:+0000
END:STANDARD
END:VTIMEZONE
BEGIN:VEVENT
UID:190-181
DTSTAMP:20260424T212607Z
SUMMARY:Apoyo Geografía.
LOCATION:
ORGANIZER;CN=Marcos:MAILTO:marcosandres1604@gmail.com
DTSTART;TZID=Etc/GMT+0:20220831T133500
DTEND;TZID=Etc/GMT+0:20220831T141000
X-ALT-DESC;FMTTYPE=TEXT/HTML:
CATEGORIES:1º 1  Apoyos,  1º 2  Apoyo
URL;VALUE=URI:https://colegiomalvin.uy/mc-events/apoyo-geografia/?mc_id=190
END:VEVENT
END:VCALENDAR