BEGIN:VCALENDAR
VERSION:2.0
PRODID:spatie/icalendar-generator
DESCRIPTION:Events from Colegio Lourdes
X-WR-CALDESC:Events from Colegio Lourdes
REFRESH-INTERVAL;VALUE=DURATION:PT1440M
X-PUBLISHED-TTL:PT1440M
BEGIN:VTIMEZONE
TZID:Etc/GMT+0
BEGIN:STANDARD
DTSTART:20211029T000000Z
TZOFFSETFROM:+0000
TZOFFSETTO:+0000
END:STANDARD
END:VTIMEZONE
BEGIN:VTIMEZONE
TZID:UTC
BEGIN:STANDARD
DTSTART:20250729T004202Z
TZOFFSETFROM:+0000
TZOFFSETTO:+0000
END:STANDARD
END:VTIMEZONE
BEGIN:VEVENT
UID:182-173
DTSTAMP:20260425T004202Z
SUMMARY:Apoyo
LOCATION:
ORGANIZER;CN=Alejandra Surraco:MAILTO:alesurraco72@gmail.com
DTSTART;TZID=Etc/GMT+0;VALUE=DATE:20220726
DTEND;TZID=Etc/GMT+0;VALUE=DATE:20220727
X-ALT-DESC;FMTTYPE=TEXT/HTML:
CATEGORIES:1º 1  Apoyos,  1º 2  Apoyo
URL;VALUE=URI:https://colegiomalvin.uy/mc-events/apoyo-5/?mc_id=182
END:VEVENT
END:VCALENDAR