BEGIN:VCALENDAR
VERSION:2.0
PRODID:spatie/icalendar-generator
DESCRIPTION:Events from Colegio Lourdes
X-WR-CALDESC:Events from Colegio Lourdes
REFRESH-INTERVAL;VALUE=DURATION:PT1440M
X-PUBLISHED-TTL:PT1440M
BEGIN:VTIMEZONE
TZID:Etc/GMT+0
BEGIN:STANDARD
DTSTART:20211106T143000Z
TZOFFSETFROM:+0000
TZOFFSETTO:+0000
END:STANDARD
END:VTIMEZONE
BEGIN:VTIMEZONE
TZID:UTC
BEGIN:STANDARD
DTSTART:20250728T223227Z
TZOFFSETFROM:+0000
TZOFFSETTO:+0000
END:STANDARD
END:VTIMEZONE
BEGIN:VEVENT
UID:167-158
DTSTAMP:20260424T223227Z
SUMMARY:Informática
LOCATION:
ORGANIZER;CN=alejandro troisi:MAILTO:bebitosuy@hotmail.com
DTSTART;TZID=Etc/GMT+0:20220803T143000
DTEND;TZID=Etc/GMT+0:20220803T155000
X-ALT-DESC;FMTTYPE=TEXT/HTML:Clases de apoyo. HTML. Css.
CATEGORIES:1º 1  Apoyos,  1º 2  Apoyo,  2º 1 Apoyos,  2º 2 Apoyos
URL;VALUE=URI:https://colegiomalvin.uy/mc-events/informatica-7/?mc_id=167
END:VEVENT
END:VCALENDAR