BEGIN:VCALENDAR
VERSION:2.0
PRODID:spatie/icalendar-generator
DESCRIPTION:Events from Colegio Lourdes
X-WR-CALDESC:Events from Colegio Lourdes
REFRESH-INTERVAL;VALUE=DURATION:PT1440M
X-PUBLISHED-TTL:PT1440M
BEGIN:VTIMEZONE
TZID:Etc/GMT+0
BEGIN:STANDARD
DTSTART:20211031T150000Z
TZOFFSETFROM:+0000
TZOFFSETTO:+0000
END:STANDARD
END:VTIMEZONE
BEGIN:VTIMEZONE
TZID:UTC
BEGIN:STANDARD
DTSTART:20250728T230050Z
TZOFFSETFROM:+0000
TZOFFSETTO:+0000
END:STANDARD
END:VTIMEZONE
BEGIN:VEVENT
UID:49-41
DTSTAMP:20260424T230050Z
SUMMARY:Informática.
LOCATION:
ORGANIZER;CN=Colegio:MAILTO:atruas@hotmail.com
DTSTART;TZID=Etc/GMT+0:20220728T150000
DTEND;TZID=Etc/GMT+0:20220728T160000
X-ALT-DESC;FMTTYPE=TEXT/HTML:
CATEGORIES:1º 1  Apoyos,  1º 2  Apoyo
URL;VALUE=URI:https://colegiomalvin.uy/mc-events/informatica-2/?mc_id=49
END:VEVENT
END:VCALENDAR