BEGIN:VCALENDAR
VERSION:2.0
PRODID:spatie/icalendar-generator
DESCRIPTION:Events from Colegio Lourdes
X-WR-CALDESC:Events from Colegio Lourdes
REFRESH-INTERVAL;VALUE=DURATION:PT1440M
X-PUBLISHED-TTL:PT1440M
BEGIN:VTIMEZONE
TZID:Etc/GMT+0
BEGIN:STANDARD
DTSTART:20211113T000000Z
TZOFFSETFROM:+0000
TZOFFSETTO:+0000
END:STANDARD
END:VTIMEZONE
BEGIN:VTIMEZONE
TZID:UTC
BEGIN:STANDARD
DTSTART:20250728T205727Z
TZOFFSETFROM:+0000
TZOFFSETTO:+0000
END:STANDARD
END:VTIMEZONE
BEGIN:VEVENT
UID:23-19
DTSTAMP:20260424T205727Z
SUMMARY:Geografía.
LOCATION:
ORGANIZER;CN=Colegio:MAILTO:atruas@hotmail.com
DTSTART;TZID=Etc/GMT+0:20220810T000000
DTEND;TZID=Etc/GMT+0:20220810T010000
X-ALT-DESC;FMTTYPE=TEXT/HTML:
CATEGORIES:1º 1  Prueba Semestral,  1º 2  Prueba Semestral
URL;VALUE=URI:https://colegiomalvin.uy/mc-events/geografia/?mc_id=23
END:VEVENT
END:VCALENDAR