BEGIN:VCALENDAR
VERSION:2.0
PRODID:spatie/icalendar-generator
DESCRIPTION:Events from Colegio Lourdes
X-WR-CALDESC:Events from Colegio Lourdes
REFRESH-INTERVAL;VALUE=DURATION:PT1440M
X-PUBLISHED-TTL:PT1440M
BEGIN:VTIMEZONE
TZID:Etc/GMT+0
BEGIN:STANDARD
DTSTART:20211111T000000Z
TZOFFSETFROM:+0000
TZOFFSETTO:+0000
END:STANDARD
END:VTIMEZONE
BEGIN:VTIMEZONE
TZID:UTC
BEGIN:STANDARD
DTSTART:20250728T205728Z
TZOFFSETFROM:+0000
TZOFFSETTO:+0000
END:STANDARD
END:VTIMEZONE
BEGIN:VEVENT
UID:21-17
DTSTAMP:20260424T205728Z
SUMMARY:Educación Física.
LOCATION:
ORGANIZER;CN=Colegio:MAILTO:atruas@hotmail.com
DTSTART;TZID=Etc/GMT+0:20220808T000000
DTEND;TZID=Etc/GMT+0:20220808T010000
X-ALT-DESC;FMTTYPE=TEXT/HTML:
CATEGORIES:1º 1  Prueba Semestral,  1º 2  Prueba Semestral
URL;VALUE=URI:https://colegiomalvin.uy/mc-events/educacion-fisica/?mc_id=21
END:VEVENT
END:VCALENDAR