BEGIN:VCALENDAR
VERSION:2.0
PRODID:spatie/icalendar-generator
DESCRIPTION:Events from Colegio Lourdes
X-WR-CALDESC:Events from Colegio Lourdes
REFRESH-INTERVAL;VALUE=DURATION:PT1440M
X-PUBLISHED-TTL:PT1440M
BEGIN:VTIMEZONE
TZID:Etc/GMT+0
BEGIN:STANDARD
DTSTART:20211126T133500Z
TZOFFSETFROM:+0000
TZOFFSETTO:+0000
END:STANDARD
END:VTIMEZONE
BEGIN:VTIMEZONE
TZID:UTC
BEGIN:STANDARD
DTSTART:20250728T211826Z
TZOFFSETFROM:+0000
TZOFFSETTO:+0000
END:STANDARD
END:VTIMEZONE
BEGIN:VEVENT
UID:203-192
DTSTAMP:20260424T211826Z
SUMMARY:Apoyo Dibujo
LOCATION:
ORGANIZER;CN=Margarita Geriboni:MAILTO:margageribonidioni@gmail.com
DTSTART;TZID=Etc/GMT+0:20220823T133500
DTEND;TZID=Etc/GMT+0:20220823T145500
X-ALT-DESC;FMTTYPE=TEXT/HTML:
CATEGORIES:1º 1  Apoyos,  1º 2  Escritos,  2º 1 Apoyos,  2º 2 Escritos
URL;VALUE=URI:https://colegiomalvin.uy/mc-events/apoyo-dibujo-2/?mc_id=203
END:VEVENT
END:VCALENDAR