BEGIN:VCALENDAR
VERSION:2.0
PRODID:spatie/icalendar-generator
DESCRIPTION:Events from Colegio Lourdes
X-WR-CALDESC:Events from Colegio Lourdes
REFRESH-INTERVAL;VALUE=DURATION:PT1440M
X-PUBLISHED-TTL:PT1440M
BEGIN:VTIMEZONE
TZID:Etc/GMT+0
BEGIN:STANDARD
DTSTART:20211114T000000Z
TZOFFSETFROM:+0000
TZOFFSETTO:+0000
END:STANDARD
END:VTIMEZONE
BEGIN:VTIMEZONE
TZID:UTC
BEGIN:STANDARD
DTSTART:20250728T211828Z
TZOFFSETFROM:+0000
TZOFFSETTO:+0000
END:STANDARD
END:VTIMEZONE
BEGIN:VEVENT
UID:14-10
DTSTAMP:20260424T211828Z
SUMMARY:Biología.
LOCATION:
ORGANIZER;CN=alejandro troisi:MAILTO:bebitosuy@hotmail.com
DTSTART;TZID=Etc/GMT+0:20220811T000000
DTEND;TZID=Etc/GMT+0:20220811T010000
X-ALT-DESC;FMTTYPE=TEXT/HTML:
CATEGORIES:1º 1  Prueba Semestral,  1º 2  Prueba Semestral
URL;VALUE=URI:https://colegiomalvin.uy/mc-events/biologia/?mc_id=14
END:VEVENT
END:VCALENDAR