BEGIN:VCALENDAR
VERSION:2.0
PRODID:spatie/icalendar-generator
DESCRIPTION:Events from Colegio Lourdes
X-WR-CALDESC:Events from Colegio Lourdes
REFRESH-INTERVAL;VALUE=DURATION:PT1440M
X-PUBLISHED-TTL:PT1440M
BEGIN:VTIMEZONE
TZID:Etc/GMT+0
BEGIN:STANDARD
DTSTART:20211122T000000Z
TZOFFSETFROM:+0000
TZOFFSETTO:+0000
END:STANDARD
END:VTIMEZONE
BEGIN:VTIMEZONE
TZID:UTC
BEGIN:STANDARD
DTSTART:20250728T212601Z
TZOFFSETFROM:+0000
TZOFFSETTO:+0000
END:STANDARD
END:VTIMEZONE
BEGIN:VEVENT
UID:108-99
DTSTAMP:20260424T212601Z
SUMMARY:Inglés
LOCATION:
ORGANIZER;CN=adscripcion.gladys@colegiolourdes.edu.uy:MAILTO:adscripcion.gl
 adys@colegiolourdes.edu.uy
DTSTART;TZID=Etc/GMT+0:20220819T000000
DTEND;TZID=Etc/GMT+0:20220819T010000
X-ALT-DESC;FMTTYPE=TEXT/HTML:
CATEGORIES:1º 1  Apoyos
URL;VALUE=URI:https://colegiomalvin.uy/mc-events/ingles-2/?mc_id=108
END:VEVENT
END:VCALENDAR